Workbook

Sheet Cómo usarla
A1: Plantilla de inventario cíclico por clase ABC
A2: Plantilla gratuita de Arume Estudio · arume.io/control-de-stock/
A4: 1. En «Plan», una fila por referencia con su clase ABC (A las que más valor mueven, C las que menos) y la fecha del último recuento.
A5: 2. En «Frecuencias» decides cada cuántos días se cuenta cada clase (de ejemplo: A cada 30, B cada 90, C cada 180).
A6: 3. La hoja calcula la fecha del próximo recuento y marca lo que toca contar esta semana o va con retraso.
A8: Las celdas en amarillo son las que rellenas tú. El resto se calcula solo. Los datos que trae son un ejemplo inventado: bórralos y pon los tuyos.
A10: ¿Se te queda corta? Un sistema de reposición lee esto mismo de tu programa y te propone el pedido cada semana: arume.io/control-de-stock/

Sheet Plan
A1: Referencia | B1: Producto | C1: Ubicación | D1: Clase ABC | E1: Último recuento | F1: Próximo recuento | G1: Días que faltan | H1: Estado
A2: R-201 | B2: Tóner negro | C2: A-01-02 | D2: A | E2: 46293 | F2: =IF(OR(D2="",E2=""),"",E2+VLOOKUP(D2,Frecuencias!$A$2:$B$4,2,FALSE)) | G2: =IF(F2="","",F2-TODAY()) | H2: =IF(G2="","",IF(G2<0,"Con retraso",IF(G2<=7,"Esta semana","Al día")))
A3: R-202 | B3: Papel A4 caja | C3: A-02-01 | D3: A | E3: 46318 | F3: =IF(OR(D3="",E3=""),"",E3+VLOOKUP(D3,Frecuencias!$A$2:$B$4,2,FALSE)) | G3: =IF(F3="","",F3-TODAY()) | H3: =IF(G3="","",IF(G3<0,"Con retraso",IF(G3<=7,"Esta semana","Al día")))
A4: R-203 | B4: Grapadora | C4: B-04-03 | D4: B | E4: 46248 | F4: =IF(OR(D4="",E4=""),"",E4+VLOOKUP(D4,Frecuencias!$A$2:$B$4,2,FALSE)) | G4: =IF(F4="","",F4-TODAY()) | H4: =IF(G4="","",IF(G4<0,"Con retraso",IF(G4<=7,"Esta semana","Al día")))
A5: R-204 | B5: Archivador | C5: C-01-05 | D5: C | E5: 46268 | F5: =IF(OR(D5="",E5=""),"",E5+VLOOKUP(D5,Frecuencias!$A$2:$B$4,2,FALSE)) | G5: =IF(F5="","",F5-TODAY()) | H5: =IF(G5="","",IF(G5<0,"Con retraso",IF(G5<=7,"Esta semana","Al día")))
F6: =IF(OR(D6="",E6=""),"",E6+VLOOKUP(D6,Frecuencias!$A$2:$B$4,2,FALSE)) | G6: =IF(F6="","",F6-TODAY()) | H6: =IF(G6="","",IF(G6<0,"Con retraso",IF(G6<=7,"Esta semana","Al día")))
F7: =IF(OR(D7="",E7=""),"",E7+VLOOKUP(D7,Frecuencias!$A$2:$B$4,2,FALSE)) | G7: =IF(F7="","",F7-TODAY()) | H7: =IF(G7="","",IF(G7<0,"Con retraso",IF(G7<=7,"Esta semana","Al día")))
F8: =IF(OR(D8="",E8=""),"",E8+VLOOKUP(D8,Frecuencias!$A$2:$B$4,2,FALSE)) | G8: =IF(F8="","",F8-TODAY()) | H8: =IF(G8="","",IF(G8<0,"Con retraso",IF(G8<=7,"Esta semana","Al día")))
F9: =IF(OR(D9="",E9=""),"",E9+VLOOKUP(D9,Frecuencias!$A$2:$B$4,2,FALSE)) | G9: =IF(F9="","",F9-TODAY()) | H9: =IF(G9="","",IF(G9<0,"Con retraso",IF(G9<=7,"Esta semana","Al día")))
F10: =IF(OR(D10="",E10=""),"",E10+VLOOKUP(D10,Frecuencias!$A$2:$B$4,2,FALSE)) | G10: =IF(F10="","",F10-TODAY()) | H10: =IF(G10="","",IF(G10<0,"Con retraso",IF(G10<=7,"Esta semana","Al día")))
F11: =IF(OR(D11="",E11=""),"",E11+VLOOKUP(D11,Frecuencias!$A$2:$B$4,2,FALSE)) | G11: =IF(F11="","",F11-TODAY()) | H11: =IF(G11="","",IF(G11<0,"Con retraso",IF(G11<=7,"Esta semana","Al día")))
F12: =IF(OR(D12="",E12=""),"",E12+VLOOKUP(D12,Frecuencias!$A$2:$B$4,2,FALSE)) | G12: =IF(F12="","",F12-TODAY()) | H12: =IF(G12="","",IF(G12<0,"Con retraso",IF(G12<=7,"Esta semana","Al día")))
F13: =IF(OR(D13="",E13=""),"",E13+VLOOKUP(D13,Frecuencias!$A$2:$B$4,2,FALSE)) | G13: =IF(F13="","",F13-TODAY()) | H13: =IF(G13="","",IF(G13<0,"Con retraso",IF(G13<=7,"Esta semana","Al día")))
F14: =IF(OR(D14="",E14=""),"",E14+VLOOKUP(D14,Frecuencias!$A$2:$B$4,2,FALSE)) | G14: =IF(F14="","",F14-TODAY()) | H14: =IF(G14="","",IF(G14<0,"Con retraso",IF(G14<=7,"Esta semana","Al día")))
F15: =IF(OR(D15="",E15=""),"",E15+VLOOKUP(D15,Frecuencias!$A$2:$B$4,2,FALSE)) | G15: =IF(F15="","",F15-TODAY()) | H15: =IF(G15="","",IF(G15<0,"Con retraso",IF(G15<=7,"Esta semana","Al día")))
F16: =IF(OR(D16="",E16=""),"",E16+VLOOKUP(D16,Frecuencias!$A$2:$B$4,2,FALSE)) | G16: =IF(F16="","",F16-TODAY()) | H16: =IF(G16="","",IF(G16<0,"Con retraso",IF(G16<=7,"Esta semana","Al día")))
F17: =IF(OR(D17="",E17=""),"",E17+VLOOKUP(D17,Frecuencias!$A$2:$B$4,2,FALSE)) | G17: =IF(F17="","",F17-TODAY()) | H17: =IF(G17="","",IF(G17<0,"Con retraso",IF(G17<=7,"Esta semana","Al día")))
... F501: =IF(OR(D501="",E501=""),"",E501+VLOOKUP(D501,Frecuencias!$A$2:$B$4,2,FALSE)) | G501: =IF(F501="","",F501-TODAY()) | H501: =IF(G501="","",IF(G501<0,"Con retraso",IF(G501<=7,"Esta semana","Al día")))

Sheet Frecuencias
A1: Clase | B1: Contar cada (días)
A2: A | B2: 30
A3: B | B3: 90
A4: C | B4: 180
