Workbook

Sheet Cómo usarla
A1: Plantilla de ficha de existencias (entradas, salidas y saldo valorado)
A2: Plantilla gratuita de Arume Estudio · arume.io/control-de-stock/
A4: 1. En «Movimientos», apunta cada entrada y cada salida en orden de fecha: fecha, referencia, tipo (Entrada o Salida), documento, unidades y, solo en las entradas, el coste unitario de compra.
A5: 2. La hoja calcula para cada línea el saldo de unidades de esa referencia, el valor del saldo y el precio medio ponderado (PMP). Las salidas se valoran al PMP que había justo antes de la salida.
A6: 3. En «Existencias» escribe una vez cada referencia, su nombre y su stock mínimo. Verás las existencias de hoy, su valor, el PMP, la fecha del último movimiento y si toca pedir.
A8: Las celdas en amarillo son las que rellenas tú. El resto se calcula solo. Los datos que trae son un ejemplo inventado: bórralos y pon los tuyos.
A9: Importante: los movimientos de cada referencia tienen que ir en orden de fecha. Si apuntas uno atrasado, insértalo en su sitio (copiando una fila con fórmulas), no al final.
A10: La primera línea de cada referencia suele ser su existencia inicial: ponla como «Entrada» con el coste al que la tienes valorada.
A12: ¿Se te queda corta? Un sistema de reposición lee esto mismo de tu programa y te propone el pedido cada semana: arume.io/control-de-stock/

Sheet Movimientos
A1: Fecha | B1: Referencia | C1: Tipo | D1: Documento | E1: Unidades | F1: Coste unitario (€) | G1: Entradas (uds) | H1: Salidas (uds) | I1: Importe entrada (€) | J1: Coste salida PMP (€) | K1: Importe salida (€) | L1: Saldo (uds) | M1: Saldo valor (€) | N1: PMP (€)
A2: 46296 | B2: LEJ-05 | C2: Entrada | D2: Existencia inicial | E2: 40 | F2: 2.1 | G2: =IF(OR(B2="",E2=""),"",IF(C2="Entrada",E2,0)) | H2: =IF(OR(B2="",E2=""),"",IF(C2="Salida",E2,0)) | I2: =IF(G2="","",G2*IF(F2="",0,F2)) | J2: =IF(OR(H2="",H2=0),"",IFERROR(ROUND((SUMIFS(I$1:I1,B$1:B1,B2)-SUMIFS(K$1:K1,B$1:B1,B2))/(SUMIFS(G$1:G1,B$1:B1,B2)-SUMIFS(H$1:H1,B$1:B1,B2)),4),0)) | K2: =IF(H2="","",IF(H2=0,0,ROUND(H2*J2,2))) | L2: =IF(OR(B2="",E2=""),"",SUMIFS(G$2:G2,B$2:B2,B2)-SUMIFS(H$2:H2,B$2:B2,B2)) | M2: =IF(L2="","",ROUND(SUMIFS(I$2:I2,B$2:B2,B2)-SUMIFS(K$2:K2,B$2:B2,B2),2)) | N2: =IF(L2="","",IF(L2>0,ROUND(M2/L2,4),""))
A3: 46296 | B3: GUA-M | C3: Entrada | D3: Existencia inicial | E3: 25 | F3: 4.8 | G3: =IF(OR(B3="",E3=""),"",IF(C3="Entrada",E3,0)) | H3: =IF(OR(B3="",E3=""),"",IF(C3="Salida",E3,0)) | I3: =IF(G3="","",G3*IF(F3="",0,F3)) | J3: =IF(OR(H3="",H3=0),"",IFERROR(ROUND((SUMIFS(I$1:I2,B$1:B2,B3)-SUMIFS(K$1:K2,B$1:B2,B3))/(SUMIFS(G$1:G2,B$1:B2,B3)-SUMIFS(H$1:H2,B$1:B2,B3)),4),0)) | K3: =IF(H3="","",IF(H3=0,0,ROUND(H3*J3,2))) | L3: =IF(OR(B3="",E3=""),"",SUMIFS(G$2:G3,B$2:B3,B3)-SUMIFS(H$2:H3,B$2:B3,B3)) | M3: =IF(L3="","",ROUND(SUMIFS(I$2:I3,B$2:B3,B3)-SUMIFS(K$2:K3,B$2:B3,B3),2)) | N3: =IF(L3="","",IF(L3>0,ROUND(M3/L3,4),""))
A4: 46296 | B4: PSM-01 | C4: Entrada | D4: Existencia inicial | E4: 15 | F4: 18.5 | G4: =IF(OR(B4="",E4=""),"",IF(C4="Entrada",E4,0)) | H4: =IF(OR(B4="",E4=""),"",IF(C4="Salida",E4,0)) | I4: =IF(G4="","",G4*IF(F4="",0,F4)) | J4: =IF(OR(H4="",H4=0),"",IFERROR(ROUND((SUMIFS(I$1:I3,B$1:B3,B4)-SUMIFS(K$1:K3,B$1:B3,B4))/(SUMIFS(G$1:G3,B$1:B3,B4)-SUMIFS(H$1:H3,B$1:B3,B4)),4),0)) | K4: =IF(H4="","",IF(H4=0,0,ROUND(H4*J4,2))) | L4: =IF(OR(B4="",E4=""),"",SUMIFS(G$2:G4,B$2:B4,B4)-SUMIFS(H$2:H4,B$2:B4,B4)) | M4: =IF(L4="","",ROUND(SUMIFS(I$2:I4,B$2:B4,B4)-SUMIFS(K$2:K4,B$2:B4,B4),2)) | N4: =IF(L4="","",IF(L4>0,ROUND(M4/L4,4),""))
A5: 46298 | B5: LEJ-05 | C5: Salida | D5: Albarán V-311 | E5: 18 | G5: =IF(OR(B5="",E5=""),"",IF(C5="Entrada",E5,0)) | H5: =IF(OR(B5="",E5=""),"",IF(C5="Salida",E5,0)) | I5: =IF(G5="","",G5*IF(F5="",0,F5)) | J5: =IF(OR(H5="",H5=0),"",IFERROR(ROUND((SUMIFS(I$1:I4,B$1:B4,B5)-SUMIFS(K$1:K4,B$1:B4,B5))/(SUMIFS(G$1:G4,B$1:B4,B5)-SUMIFS(H$1:H4,B$1:B4,B5)),4),0)) | K5: =IF(H5="","",IF(H5=0,0,ROUND(H5*J5,2))) | L5: =IF(OR(B5="",E5=""),"",SUMIFS(G$2:G5,B$2:B5,B5)-SUMIFS(H$2:H5,B$2:B5,B5)) | M5: =IF(L5="","",ROUND(SUMIFS(I$2:I5,B$2:B5,B5)-SUMIFS(K$2:K5,B$2:B5,B5),2)) | N5: =IF(L5="","",IF(L5>0,ROUND(M5/L5,4),""))
A6: 46301 | B6: GUA-M | C6: Salida | D6: Albarán V-318 | E6: 12 | G6: =IF(OR(B6="",E6=""),"",IF(C6="Entrada",E6,0)) | H6: =IF(OR(B6="",E6=""),"",IF(C6="Salida",E6,0)) | I6: =IF(G6="","",G6*IF(F6="",0,F6)) | J6: =IF(OR(H6="",H6=0),"",IFERROR(ROUND((SUMIFS(I$1:I5,B$1:B5,B6)-SUMIFS(K$1:K5,B$1:B5,B6))/(SUMIFS(G$1:G5,B$1:B5,B6)-SUMIFS(H$1:H5,B$1:B5,B6)),4),0)) | K6: =IF(H6="","",IF(H6=0,0,ROUND(H6*J6,2))) | L6: =IF(OR(B6="",E6=""),"",SUMIFS(G$2:G6,B$2:B6,B6)-SUMIFS(H$2:H6,B$2:B6,B6)) | M6: =IF(L6="","",ROUND(SUMIFS(I$2:I6,B$2:B6,B6)-SUMIFS(K$2:K6,B$2:B6,B6),2)) | N6: =IF(L6="","",IF(L6>0,ROUND(M6/L6,4),""))
A7: 46302 | B7: PSM-01 | C7: Salida | D7: Albarán V-320 | E7: 9 | G7: =IF(OR(B7="",E7=""),"",IF(C7="Entrada",E7,0)) | H7: =IF(OR(B7="",E7=""),"",IF(C7="Salida",E7,0)) | I7: =IF(G7="","",G7*IF(F7="",0,F7)) | J7: =IF(OR(H7="",H7=0),"",IFERROR(ROUND((SUMIFS(I$1:I6,B$1:B6,B7)-SUMIFS(K$1:K6,B$1:B6,B7))/(SUMIFS(G$1:G6,B$1:B6,B7)-SUMIFS(H$1:H6,B$1:B6,B7)),4),0)) | K7: =IF(H7="","",IF(H7=0,0,ROUND(H7*J7,2))) | L7: =IF(OR(B7="",E7=""),"",SUMIFS(G$2:G7,B$2:B7,B7)-SUMIFS(H$2:H7,B$2:B7,B7)) | M7: =IF(L7="","",ROUND(SUMIFS(I$2:I7,B$2:B7,B7)-SUMIFS(K$2:K7,B$2:B7,B7),2)) | N7: =IF(L7="","",IF(L7>0,ROUND(M7/L7,4),""))
A8: 46303 | B8: LEJ-05 | C8: Entrada | D8: Albarán C-104 | E8: 60 | F8: 2.25 | G8: =IF(OR(B8="",E8=""),"",IF(C8="Entrada",E8,0)) | H8: =IF(OR(B8="",E8=""),"",IF(C8="Salida",E8,0)) | I8: =IF(G8="","",G8*IF(F8="",0,F8)) | J8: =IF(OR(H8="",H8=0),"",IFERROR(ROUND((SUMIFS(I$1:I7,B$1:B7,B8)-SUMIFS(K$1:K7,B$1:B7,B8))/(SUMIFS(G$1:G7,B$1:B7,B8)-SUMIFS(H$1:H7,B$1:B7,B8)),4),0)) | K8: =IF(H8="","",IF(H8=0,0,ROUND(H8*J8,2))) | L8: =IF(OR(B8="",E8=""),"",SUMIFS(G$2:G8,B$2:B8,B8)-SUMIFS(H$2:H8,B$2:B8,B8)) | M8: =IF(L8="","",ROUND(SUMIFS(I$2:I8,B$2:B8,B8)-SUMIFS(K$2:K8,B$2:B8,B8),2)) | N8: =IF(L8="","",IF(L8>0,ROUND(M8/L8,4),""))
A9: 46304 | B9: GUA-M | C9: Entrada | D9: Albarán C-106 | E9: 30 | F9: 5.1 | G9: =IF(OR(B9="",E9=""),"",IF(C9="Entrada",E9,0)) | H9: =IF(OR(B9="",E9=""),"",IF(C9="Salida",E9,0)) | I9: =IF(G9="","",G9*IF(F9="",0,F9)) | J9: =IF(OR(H9="",H9=0),"",IFERROR(ROUND((SUMIFS(I$1:I8,B$1:B8,B9)-SUMIFS(K$1:K8,B$1:B8,B9))/(SUMIFS(G$1:G8,B$1:B8,B9)-SUMIFS(H$1:H8,B$1:B8,B9)),4),0)) | K9: =IF(H9="","",IF(H9=0,0,ROUND(H9*J9,2))) | L9: =IF(OR(B9="",E9=""),"",SUMIFS(G$2:G9,B$2:B9,B9)-SUMIFS(H$2:H9,B$2:B9,B9)) | M9: =IF(L9="","",ROUND(SUMIFS(I$2:I9,B$2:B9,B9)-SUMIFS(K$2:K9,B$2:B9,B9),2)) | N9: =IF(L9="","",IF(L9>0,ROUND(M9/L9,4),""))
A10: 46305 | B10: LEJ-05 | C10: Salida | D10: Albarán V-327 | E10: 35 | G10: =IF(OR(B10="",E10=""),"",IF(C10="Entrada",E10,0)) | H10: =IF(OR(B10="",E10=""),"",IF(C10="Salida",E10,0)) | I10: =IF(G10="","",G10*IF(F10="",0,F10)) | J10: =IF(OR(H10="",H10=0),"",IFERROR(ROUND((SUMIFS(I$1:I9,B$1:B9,B10)-SUMIFS(K$1:K9,B$1:B9,B10))/(SUMIFS(G$1:G9,B$1:B9,B10)-SUMIFS(H$1:H9,B$1:B9,B10)),4),0)) | K10: =IF(H10="","",IF(H10=0,0,ROUND(H10*J10,2))) | L10: =IF(OR(B10="",E10=""),"",SUMIFS(G$2:G10,B$2:B10,B10)-SUMIFS(H$2:H10,B$2:B10,B10)) | M10: =IF(L10="","",ROUND(SUMIFS(I$2:I10,B$2:B10,B10)-SUMIFS(K$2:K10,B$2:B10,B10),2)) | N10: =IF(L10="","",IF(L10>0,ROUND(M10/L10,4),""))
A11: 46308 | B11: PSM-01 | C11: Salida | D11: Albarán V-331 | E11: 4 | G11: =IF(OR(B11="",E11=""),"",IF(C11="Entrada",E11,0)) | H11: =IF(OR(B11="",E11=""),"",IF(C11="Salida",E11,0)) | I11: =IF(G11="","",G11*IF(F11="",0,F11)) | J11: =IF(OR(H11="",H11=0),"",IFERROR(ROUND((SUMIFS(I$1:I10,B$1:B10,B11)-SUMIFS(K$1:K10,B$1:B10,B11))/(SUMIFS(G$1:G10,B$1:B10,B11)-SUMIFS(H$1:H10,B$1:B10,B11)),4),0)) | K11: =IF(H11="","",IF(H11=0,0,ROUND(H11*J11,2))) | L11: =IF(OR(B11="",E11=""),"",SUMIFS(G$2:G11,B$2:B11,B11)-SUMIFS(H$2:H11,B$2:B11,B11)) | M11: =IF(L11="","",ROUND(SUMIFS(I$2:I11,B$2:B11,B11)-SUMIFS(K$2:K11,B$2:B11,B11),2)) | N11: =IF(L11="","",IF(L11>0,ROUND(M11/L11,4),""))
A12: 46309 | B12: GUA-M | C12: Salida | D12: Albarán V-334 | E12: 20 | G12: =IF(OR(B12="",E12=""),"",IF(C12="Entrada",E12,0)) | H12: =IF(OR(B12="",E12=""),"",IF(C12="Salida",E12,0)) | I12: =IF(G12="","",G12*IF(F12="",0,F12)) | J12: =IF(OR(H12="",H12=0),"",IFERROR(ROUND((SUMIFS(I$1:I11,B$1:B11,B12)-SUMIFS(K$1:K11,B$1:B11,B12))/(SUMIFS(G$1:G11,B$1:B11,B12)-SUMIFS(H$1:H11,B$1:B11,B12)),4),0)) | K12: =IF(H12="","",IF(H12=0,0,ROUND(H12*J12,2))) | L12: =IF(OR(B12="",E12=""),"",SUMIFS(G$2:G12,B$2:B12,B12)-SUMIFS(H$2:H12,B$2:B12,B12)) | M12: =IF(L12="","",ROUND(SUMIFS(I$2:I12,B$2:B12,B12)-SUMIFS(K$2:K12,B$2:B12,B12),2)) | N12: =IF(L12="","",IF(L12>0,ROUND(M12/L12,4),""))
A13: 46310 | B13: LEJ-05 | C13: Salida | D13: Albarán V-336 | E13: 22 | G13: =IF(OR(B13="",E13=""),"",IF(C13="Entrada",E13,0)) | H13: =IF(OR(B13="",E13=""),"",IF(C13="Salida",E13,0)) | I13: =IF(G13="","",G13*IF(F13="",0,F13)) | J13: =IF(OR(H13="",H13=0),"",IFERROR(ROUND((SUMIFS(I$1:I12,B$1:B12,B13)-SUMIFS(K$1:K12,B$1:B12,B13))/(SUMIFS(G$1:G12,B$1:B12,B13)-SUMIFS(H$1:H12,B$1:B12,B13)),4),0)) | K13: =IF(H13="","",IF(H13=0,0,ROUND(H13*J13,2))) | L13: =IF(OR(B13="",E13=""),"",SUMIFS(G$2:G13,B$2:B13,B13)-SUMIFS(H$2:H13,B$2:B13,B13)) | M13: =IF(L13="","",ROUND(SUMIFS(I$2:I13,B$2:B13,B13)-SUMIFS(K$2:K13,B$2:B13,B13),2)) | N13: =IF(L13="","",IF(L13>0,ROUND(M13/L13,4),""))
G14: =IF(OR(B14="",E14=""),"",IF(C14="Entrada",E14,0)) | H14: =IF(OR(B14="",E14=""),"",IF(C14="Salida",E14,0)) | I14: =IF(G14="","",G14*IF(F14="",0,F14)) | J14: =IF(OR(H14="",H14=0),"",IFERROR(ROUND((SUMIFS(I$1:I13,B$1:B13,B14)-SUMIFS(K$1:K13,B$1:B13,B14))/(SUMIFS(G$1:G13,B$1:B13,B14)-SUMIFS(H$1:H13,B$1:B13,B14)),4),0)) | K14: =IF(H14="","",IF(H14=0,0,ROUND(H14*J14,2))) | L14: =IF(OR(B14="",E14=""),"",SUMIFS(G$2:G14,B$2:B14,B14)-SUMIFS(H$2:H14,B$2:B14,B14)) | M14: =IF(L14="","",ROUND(SUMIFS(I$2:I14,B$2:B14,B14)-SUMIFS(K$2:K14,B$2:B14,B14),2)) | N14: =IF(L14="","",IF(L14>0,ROUND(M14/L14,4),""))
G15: =IF(OR(B15="",E15=""),"",IF(C15="Entrada",E15,0)) | H15: =IF(OR(B15="",E15=""),"",IF(C15="Salida",E15,0)) | I15: =IF(G15="","",G15*IF(F15="",0,F15)) | J15: =IF(OR(H15="",H15=0),"",IFERROR(ROUND((SUMIFS(I$1:I14,B$1:B14,B15)-SUMIFS(K$1:K14,B$1:B14,B15))/(SUMIFS(G$1:G14,B$1:B14,B15)-SUMIFS(H$1:H14,B$1:B14,B15)),4),0)) | K15: =IF(H15="","",IF(H15=0,0,ROUND(H15*J15,2))) | L15: =IF(OR(B15="",E15=""),"",SUMIFS(G$2:G15,B$2:B15,B15)-SUMIFS(H$2:H15,B$2:B15,B15)) | M15: =IF(L15="","",ROUND(SUMIFS(I$2:I15,B$2:B15,B15)-SUMIFS(K$2:K15,B$2:B15,B15),2)) | N15: =IF(L15="","",IF(L15>0,ROUND(M15/L15,4),""))
G16: =IF(OR(B16="",E16=""),"",IF(C16="Entrada",E16,0)) | H16: =IF(OR(B16="",E16=""),"",IF(C16="Salida",E16,0)) | I16: =IF(G16="","",G16*IF(F16="",0,F16)) | J16: =IF(OR(H16="",H16=0),"",IFERROR(ROUND((SUMIFS(I$1:I15,B$1:B15,B16)-SUMIFS(K$1:K15,B$1:B15,B16))/(SUMIFS(G$1:G15,B$1:B15,B16)-SUMIFS(H$1:H15,B$1:B15,B16)),4),0)) | K16: =IF(H16="","",IF(H16=0,0,ROUND(H16*J16,2))) | L16: =IF(OR(B16="",E16=""),"",SUMIFS(G$2:G16,B$2:B16,B16)-SUMIFS(H$2:H16,B$2:B16,B16)) | M16: =IF(L16="","",ROUND(SUMIFS(I$2:I16,B$2:B16,B16)-SUMIFS(K$2:K16,B$2:B16,B16),2)) | N16: =IF(L16="","",IF(L16>0,ROUND(M16/L16,4),""))
G17: =IF(OR(B17="",E17=""),"",IF(C17="Entrada",E17,0)) | H17: =IF(OR(B17="",E17=""),"",IF(C17="Salida",E17,0)) | I17: =IF(G17="","",G17*IF(F17="",0,F17)) | J17: =IF(OR(H17="",H17=0),"",IFERROR(ROUND((SUMIFS(I$1:I16,B$1:B16,B17)-SUMIFS(K$1:K16,B$1:B16,B17))/(SUMIFS(G$1:G16,B$1:B16,B17)-SUMIFS(H$1:H16,B$1:B16,B17)),4),0)) | K17: =IF(H17="","",IF(H17=0,0,ROUND(H17*J17,2))) | L17: =IF(OR(B17="",E17=""),"",SUMIFS(G$2:G17,B$2:B17,B17)-SUMIFS(H$2:H17,B$2:B17,B17)) | M17: =IF(L17="","",ROUND(SUMIFS(I$2:I17,B$2:B17,B17)-SUMIFS(K$2:K17,B$2:B17,B17),2)) | N17: =IF(L17="","",IF(L17>0,ROUND(M17/L17,4),""))
G18: =IF(OR(B18="",E18=""),"",IF(C18="Entrada",E18,0)) | H18: =IF(OR(B18="",E18=""),"",IF(C18="Salida",E18,0)) | I18: =IF(G18="","",G18*IF(F18="",0,F18)) | J18: =IF(OR(H18="",H18=0),"",IFERROR(ROUND((SUMIFS(I$1:I17,B$1:B17,B18)-SUMIFS(K$1:K17,B$1:B17,B18))/(SUMIFS(G$1:G17,B$1:B17,B18)-SUMIFS(H$1:H17,B$1:B17,B18)),4),0)) | K18: =IF(H18="","",IF(H18=0,0,ROUND(H18*J18,2))) | L18: =IF(OR(B18="",E18=""),"",SUMIFS(G$2:G18,B$2:B18,B18)-SUMIFS(H$2:H18,B$2:B18,B18)) | M18: =IF(L18="","",ROUND(SUMIFS(I$2:I18,B$2:B18,B18)-SUMIFS(K$2:K18,B$2:B18,B18),2)) | N18: =IF(L18="","",IF(L18>0,ROUND(M18/L18,4),""))
G19: =IF(OR(B19="",E19=""),"",IF(C19="Entrada",E19,0)) | H19: =IF(OR(B19="",E19=""),"",IF(C19="Salida",E19,0)) | I19: =IF(G19="","",G19*IF(F19="",0,F19)) | J19: =IF(OR(H19="",H19=0),"",IFERROR(ROUND((SUMIFS(I$1:I18,B$1:B18,B19)-SUMIFS(K$1:K18,B$1:B18,B19))/(SUMIFS(G$1:G18,B$1:B18,B19)-SUMIFS(H$1:H18,B$1:B18,B19)),4),0)) | K19: =IF(H19="","",IF(H19=0,0,ROUND(H19*J19,2))) | L19: =IF(OR(B19="",E19=""),"",SUMIFS(G$2:G19,B$2:B19,B19)-SUMIFS(H$2:H19,B$2:B19,B19)) | M19: =IF(L19="","",ROUND(SUMIFS(I$2:I19,B$2:B19,B19)-SUMIFS(K$2:K19,B$2:B19,B19),2)) | N19: =IF(L19="","",IF(L19>0,ROUND(M19/L19,4),""))
G20: =IF(OR(B20="",E20=""),"",IF(C20="Entrada",E20,0)) | H20: =IF(OR(B20="",E20=""),"",IF(C20="Salida",E20,0)) | I20: =IF(G20="","",G20*IF(F20="",0,F20)) | J20: =IF(OR(H20="",H20=0),"",IFERROR(ROUND((SUMIFS(I$1:I19,B$1:B19,B20)-SUMIFS(K$1:K19,B$1:B19,B20))/(SUMIFS(G$1:G19,B$1:B19,B20)-SUMIFS(H$1:H19,B$1:B19,B20)),4),0)) | K20: =IF(H20="","",IF(H20=0,0,ROUND(H20*J20,2))) | L20: =IF(OR(B20="",E20=""),"",SUMIFS(G$2:G20,B$2:B20,B20)-SUMIFS(H$2:H20,B$2:B20,B20)) | M20: =IF(L20="","",ROUND(SUMIFS(I$2:I20,B$2:B20,B20)-SUMIFS(K$2:K20,B$2:B20,B20),2)) | N20: =IF(L20="","",IF(L20>0,ROUND(M20/L20,4),""))
G21: =IF(OR(B21="",E21=""),"",IF(C21="Entrada",E21,0)) | H21: =IF(OR(B21="",E21=""),"",IF(C21="Salida",E21,0)) | I21: =IF(G21="","",G21*IF(F21="",0,F21)) | J21: =IF(OR(H21="",H21=0),"",IFERROR(ROUND((SUMIFS(I$1:I20,B$1:B20,B21)-SUMIFS(K$1:K20,B$1:B20,B21))/(SUMIFS(G$1:G20,B$1:B20,B21)-SUMIFS(H$1:H20,B$1:B20,B21)),4),0)) | K21: =IF(H21="","",IF(H21=0,0,ROUND(H21*J21,2))) | L21: =IF(OR(B21="",E21=""),"",SUMIFS(G$2:G21,B$2:B21,B21)-SUMIFS(H$2:H21,B$2:B21,B21)) | M21: =IF(L21="","",ROUND(SUMIFS(I$2:I21,B$2:B21,B21)-SUMIFS(K$2:K21,B$2:B21,B21),2)) | N21: =IF(L21="","",IF(L21>0,ROUND(M21/L21,4),""))
G22: =IF(OR(B22="",E22=""),"",IF(C22="Entrada",E22,0)) | H22: =IF(OR(B22="",E22=""),"",IF(C22="Salida",E22,0)) | I22: =IF(G22="","",G22*IF(F22="",0,F22)) | J22: =IF(OR(H22="",H22=0),"",IFERROR(ROUND((SUMIFS(I$1:I21,B$1:B21,B22)-SUMIFS(K$1:K21,B$1:B21,B22))/(SUMIFS(G$1:G21,B$1:B21,B22)-SUMIFS(H$1:H21,B$1:B21,B22)),4),0)) | K22: =IF(H22="","",IF(H22=0,0,ROUND(H22*J22,2))) | L22: =IF(OR(B22="",E22=""),"",SUMIFS(G$2:G22,B$2:B22,B22)-SUMIFS(H$2:H22,B$2:B22,B22)) | M22: =IF(L22="","",ROUND(SUMIFS(I$2:I22,B$2:B22,B22)-SUMIFS(K$2:K22,B$2:B22,B22),2)) | N22: =IF(L22="","",IF(L22>0,ROUND(M22/L22,4),""))
G23: =IF(OR(B23="",E23=""),"",IF(C23="Entrada",E23,0)) | H23: =IF(OR(B23="",E23=""),"",IF(C23="Salida",E23,0)) | I23: =IF(G23="","",G23*IF(F23="",0,F23)) | J23: =IF(OR(H23="",H23=0),"",IFERROR(ROUND((SUMIFS(I$1:I22,B$1:B22,B23)-SUMIFS(K$1:K22,B$1:B22,B23))/(SUMIFS(G$1:G22,B$1:B22,B23)-SUMIFS(H$1:H22,B$1:B22,B23)),4),0)) | K23: =IF(H23="","",IF(H23=0,0,ROUND(H23*J23,2))) | L23: =IF(OR(B23="",E23=""),"",SUMIFS(G$2:G23,B$2:B23,B23)-SUMIFS(H$2:H23,B$2:B23,B23)) | M23: =IF(L23="","",ROUND(SUMIFS(I$2:I23,B$2:B23,B23)-SUMIFS(K$2:K23,B$2:B23,B23),2)) | N23: =IF(L23="","",IF(L23>0,ROUND(M23/L23,4),""))
G24: =IF(OR(B24="",E24=""),"",IF(C24="Entrada",E24,0)) | H24: =IF(OR(B24="",E24=""),"",IF(C24="Salida",E24,0)) | I24: =IF(G24="","",G24*IF(F24="",0,F24)) | J24: =IF(OR(H24="",H24=0),"",IFERROR(ROUND((SUMIFS(I$1:I23,B$1:B23,B24)-SUMIFS(K$1:K23,B$1:B23,B24))/(SUMIFS(G$1:G23,B$1:B23,B24)-SUMIFS(H$1:H23,B$1:B23,B24)),4),0)) | K24: =IF(H24="","",IF(H24=0,0,ROUND(H24*J24,2))) | L24: =IF(OR(B24="",E24=""),"",SUMIFS(G$2:G24,B$2:B24,B24)-SUMIFS(H$2:H24,B$2:B24,B24)) | M24: =IF(L24="","",ROUND(SUMIFS(I$2:I24,B$2:B24,B24)-SUMIFS(K$2:K24,B$2:B24,B24),2)) | N24: =IF(L24="","",IF(L24>0,ROUND(M24/L24,4),""))
G25: =IF(OR(B25="",E25=""),"",IF(C25="Entrada",E25,0)) | H25: =IF(OR(B25="",E25=""),"",IF(C25="Salida",E25,0)) | I25: =IF(G25="","",G25*IF(F25="",0,F25)) | J25: =IF(OR(H25="",H25=0),"",IFERROR(ROUND((SUMIFS(I$1:I24,B$1:B24,B25)-SUMIFS(K$1:K24,B$1:B24,B25))/(SUMIFS(G$1:G24,B$1:B24,B25)-SUMIFS(H$1:H24,B$1:B24,B25)),4),0)) | K25: =IF(H25="","",IF(H25=0,0,ROUND(H25*J25,2))) | L25: =IF(OR(B25="",E25=""),"",SUMIFS(G$2:G25,B$2:B25,B25)-SUMIFS(H$2:H25,B$2:B25,B25)) | M25: =IF(L25="","",ROUND(SUMIFS(I$2:I25,B$2:B25,B25)-SUMIFS(K$2:K25,B$2:B25,B25),2)) | N25: =IF(L25="","",IF(L25>0,ROUND(M25/L25,4),""))
... G501: =IF(OR(B501="",E501=""),"",IF(C501="Entrada",E501,0)) | H501: =IF(OR(B501="",E501=""),"",IF(C501="Salida",E501,0)) | I501: =IF(G501="","",G501*IF(F501="",0,F501)) | J501: =IF(OR(H501="",H501=0),"",IFERROR(ROUND((SUMIFS(I$1:I500,B$1:B500,B501)-SUMIFS(K$1:K500,B$1:B500,B501))/(SUMIFS(G$1:G500,B$1:B500,B501)-SUMIFS(H$1:H500,B$1:B500,B501)),4),0)) | K501: =IF(H501="","",IF(H501=0,0,ROUND(H501*J501,2))) | L501: =IF(OR(B501="",E501=""),"",SUMIFS(G$2:G501,B$2:B501,B501)-SUMIFS(H$2:H501,B$2:B501,B501)) | M501: =IF(L501="","",ROUND(SUMIFS(I$2:I501,B$2:B501,B501)-SUMIFS(K$2:K501,B$2:B501,B501),2)) | N501: =IF(L501="","",IF(L501>0,ROUND(M501/L501,4),""))

Sheet Existencias
A1: Referencia | B1: Producto | C1: Stock mínimo (uds) | D1: Entradas (uds) | E1: Salidas (uds) | F1: Existencias (uds) | G1: Valor (€) | H1: PMP (€) | I1: Último movimiento | J1: Estado | L1: Valor total del almacén (€)
A2: LEJ-05 | B2: Lejía 5 l | C2: 30 | D2: =IF(A2="","",SUMIFS(Movimientos!$G$2:$G$501,Movimientos!$B$2:$B$501,A2)) | E2: =IF(A2="","",SUMIFS(Movimientos!$H$2:$H$501,Movimientos!$B$2:$B$501,A2)) | F2: =IF(A2="","",D2-E2) | G2: =IF(A2="","",ROUND(SUMIFS(Movimientos!$I$2:$I$501,Movimientos!$B$2:$B$501,A2)-SUMIFS(Movimientos!$K$2:$K$501,Movimientos!$B$2:$B$501,A2),2)) | H2: =IF(OR(A2="",F2=""),"",IF(F2>0,ROUND(G2/F2,4),"")) | I2: =IF(A2="","",IF(COUNTIF(Movimientos!$B$2:$B$501,A2)=0,"",_xlfn.MAXIFS(Movimientos!$A$2:$A$501,Movimientos!$B$2:$B$501,A2))) | J2: =IF(A2="","",IF(F2<=0,"Sin stock",IF(AND(C2<>"",F2<=C2),"Pedir","Bien"))) | L2: =SUM(G2:G201)
A3: GUA-M | B3: Guantes de nitrilo talla M (caja de 100) | C3: 15 | D3: =IF(A3="","",SUMIFS(Movimientos!$G$2:$G$501,Movimientos!$B$2:$B$501,A3)) | E3: =IF(A3="","",SUMIFS(Movimientos!$H$2:$H$501,Movimientos!$B$2:$B$501,A3)) | F3: =IF(A3="","",D3-E3) | G3: =IF(A3="","",ROUND(SUMIFS(Movimientos!$I$2:$I$501,Movimientos!$B$2:$B$501,A3)-SUMIFS(Movimientos!$K$2:$K$501,Movimientos!$B$2:$B$501,A3),2)) | H3: =IF(OR(A3="",F3=""),"",IF(F3>0,ROUND(G3/F3,4),"")) | I3: =IF(A3="","",IF(COUNTIF(Movimientos!$B$2:$B$501,A3)=0,"",_xlfn.MAXIFS(Movimientos!$A$2:$A$501,Movimientos!$B$2:$B$501,A3))) | J3: =IF(A3="","",IF(F3<=0,"Sin stock",IF(AND(C3<>"",F3<=C3),"Pedir","Bien")))
A4: PSM-01 | B4: Papel secamanos (fardo) | C4: 5 | D4: =IF(A4="","",SUMIFS(Movimientos!$G$2:$G$501,Movimientos!$B$2:$B$501,A4)) | E4: =IF(A4="","",SUMIFS(Movimientos!$H$2:$H$501,Movimientos!$B$2:$B$501,A4)) | F4: =IF(A4="","",D4-E4) | G4: =IF(A4="","",ROUND(SUMIFS(Movimientos!$I$2:$I$501,Movimientos!$B$2:$B$501,A4)-SUMIFS(Movimientos!$K$2:$K$501,Movimientos!$B$2:$B$501,A4),2)) | H4: =IF(OR(A4="",F4=""),"",IF(F4>0,ROUND(G4/F4,4),"")) | I4: =IF(A4="","",IF(COUNTIF(Movimientos!$B$2:$B$501,A4)=0,"",_xlfn.MAXIFS(Movimientos!$A$2:$A$501,Movimientos!$B$2:$B$501,A4))) | J4: =IF(A4="","",IF(F4<=0,"Sin stock",IF(AND(C4<>"",F4<=C4),"Pedir","Bien")))
D5: =IF(A5="","",SUMIFS(Movimientos!$G$2:$G$501,Movimientos!$B$2:$B$501,A5)) | E5: =IF(A5="","",SUMIFS(Movimientos!$H$2:$H$501,Movimientos!$B$2:$B$501,A5)) | F5: =IF(A5="","",D5-E5) | G5: =IF(A5="","",ROUND(SUMIFS(Movimientos!$I$2:$I$501,Movimientos!$B$2:$B$501,A5)-SUMIFS(Movimientos!$K$2:$K$501,Movimientos!$B$2:$B$501,A5),2)) | H5: =IF(OR(A5="",F5=""),"",IF(F5>0,ROUND(G5/F5,4),"")) | I5: =IF(A5="","",IF(COUNTIF(Movimientos!$B$2:$B$501,A5)=0,"",_xlfn.MAXIFS(Movimientos!$A$2:$A$501,Movimientos!$B$2:$B$501,A5))) | J5: =IF(A5="","",IF(F5<=0,"Sin stock",IF(AND(C5<>"",F5<=C5),"Pedir","Bien")))
D6: =IF(A6="","",SUMIFS(Movimientos!$G$2:$G$501,Movimientos!$B$2:$B$501,A6)) | E6: =IF(A6="","",SUMIFS(Movimientos!$H$2:$H$501,Movimientos!$B$2:$B$501,A6)) | F6: =IF(A6="","",D6-E6) | G6: =IF(A6="","",ROUND(SUMIFS(Movimientos!$I$2:$I$501,Movimientos!$B$2:$B$501,A6)-SUMIFS(Movimientos!$K$2:$K$501,Movimientos!$B$2:$B$501,A6),2)) | H6: =IF(OR(A6="",F6=""),"",IF(F6>0,ROUND(G6/F6,4),"")) | I6: =IF(A6="","",IF(COUNTIF(Movimientos!$B$2:$B$501,A6)=0,"",_xlfn.MAXIFS(Movimientos!$A$2:$A$501,Movimientos!$B$2:$B$501,A6))) | J6: =IF(A6="","",IF(F6<=0,"Sin stock",IF(AND(C6<>"",F6<=C6),"Pedir","Bien")))
D7: =IF(A7="","",SUMIFS(Movimientos!$G$2:$G$501,Movimientos!$B$2:$B$501,A7)) | E7: =IF(A7="","",SUMIFS(Movimientos!$H$2:$H$501,Movimientos!$B$2:$B$501,A7)) | F7: =IF(A7="","",D7-E7) | G7: =IF(A7="","",ROUND(SUMIFS(Movimientos!$I$2:$I$501,Movimientos!$B$2:$B$501,A7)-SUMIFS(Movimientos!$K$2:$K$501,Movimientos!$B$2:$B$501,A7),2)) | H7: =IF(OR(A7="",F7=""),"",IF(F7>0,ROUND(G7/F7,4),"")) | I7: =IF(A7="","",IF(COUNTIF(Movimientos!$B$2:$B$501,A7)=0,"",_xlfn.MAXIFS(Movimientos!$A$2:$A$501,Movimientos!$B$2:$B$501,A7))) | J7: =IF(A7="","",IF(F7<=0,"Sin stock",IF(AND(C7<>"",F7<=C7),"Pedir","Bien")))
D8: =IF(A8="","",SUMIFS(Movimientos!$G$2:$G$501,Movimientos!$B$2:$B$501,A8)) | E8: =IF(A8="","",SUMIFS(Movimientos!$H$2:$H$501,Movimientos!$B$2:$B$501,A8)) | F8: =IF(A8="","",D8-E8) | G8: =IF(A8="","",ROUND(SUMIFS(Movimientos!$I$2:$I$501,Movimientos!$B$2:$B$501,A8)-SUMIFS(Movimientos!$K$2:$K$501,Movimientos!$B$2:$B$501,A8),2)) | H8: =IF(OR(A8="",F8=""),"",IF(F8>0,ROUND(G8/F8,4),"")) | I8: =IF(A8="","",IF(COUNTIF(Movimientos!$B$2:$B$501,A8)=0,"",_xlfn.MAXIFS(Movimientos!$A$2:$A$501,Movimientos!$B$2:$B$501,A8))) | J8: =IF(A8="","",IF(F8<=0,"Sin stock",IF(AND(C8<>"",F8<=C8),"Pedir","Bien")))
D9: =IF(A9="","",SUMIFS(Movimientos!$G$2:$G$501,Movimientos!$B$2:$B$501,A9)) | E9: =IF(A9="","",SUMIFS(Movimientos!$H$2:$H$501,Movimientos!$B$2:$B$501,A9)) | F9: =IF(A9="","",D9-E9) | G9: =IF(A9="","",ROUND(SUMIFS(Movimientos!$I$2:$I$501,Movimientos!$B$2:$B$501,A9)-SUMIFS(Movimientos!$K$2:$K$501,Movimientos!$B$2:$B$501,A9),2)) | H9: =IF(OR(A9="",F9=""),"",IF(F9>0,ROUND(G9/F9,4),"")) | I9: =IF(A9="","",IF(COUNTIF(Movimientos!$B$2:$B$501,A9)=0,"",_xlfn.MAXIFS(Movimientos!$A$2:$A$501,Movimientos!$B$2:$B$501,A9))) | J9: =IF(A9="","",IF(F9<=0,"Sin stock",IF(AND(C9<>"",F9<=C9),"Pedir","Bien")))
D10: =IF(A10="","",SUMIFS(Movimientos!$G$2:$G$501,Movimientos!$B$2:$B$501,A10)) | E10: =IF(A10="","",SUMIFS(Movimientos!$H$2:$H$501,Movimientos!$B$2:$B$501,A10)) | F10: =IF(A10="","",D10-E10) | G10: =IF(A10="","",ROUND(SUMIFS(Movimientos!$I$2:$I$501,Movimientos!$B$2:$B$501,A10)-SUMIFS(Movimientos!$K$2:$K$501,Movimientos!$B$2:$B$501,A10),2)) | H10: =IF(OR(A10="",F10=""),"",IF(F10>0,ROUND(G10/F10,4),"")) | I10: =IF(A10="","",IF(COUNTIF(Movimientos!$B$2:$B$501,A10)=0,"",_xlfn.MAXIFS(Movimientos!$A$2:$A$501,Movimientos!$B$2:$B$501,A10))) | J10: =IF(A10="","",IF(F10<=0,"Sin stock",IF(AND(C10<>"",F10<=C10),"Pedir","Bien")))
D11: =IF(A11="","",SUMIFS(Movimientos!$G$2:$G$501,Movimientos!$B$2:$B$501,A11)) | E11: =IF(A11="","",SUMIFS(Movimientos!$H$2:$H$501,Movimientos!$B$2:$B$501,A11)) | F11: =IF(A11="","",D11-E11) | G11: =IF(A11="","",ROUND(SUMIFS(Movimientos!$I$2:$I$501,Movimientos!$B$2:$B$501,A11)-SUMIFS(Movimientos!$K$2:$K$501,Movimientos!$B$2:$B$501,A11),2)) | H11: =IF(OR(A11="",F11=""),"",IF(F11>0,ROUND(G11/F11,4),"")) | I11: =IF(A11="","",IF(COUNTIF(Movimientos!$B$2:$B$501,A11)=0,"",_xlfn.MAXIFS(Movimientos!$A$2:$A$501,Movimientos!$B$2:$B$501,A11))) | J11: =IF(A11="","",IF(F11<=0,"Sin stock",IF(AND(C11<>"",F11<=C11),"Pedir","Bien")))
D12: =IF(A12="","",SUMIFS(Movimientos!$G$2:$G$501,Movimientos!$B$2:$B$501,A12)) | E12: =IF(A12="","",SUMIFS(Movimientos!$H$2:$H$501,Movimientos!$B$2:$B$501,A12)) | F12: =IF(A12="","",D12-E12) | G12: =IF(A12="","",ROUND(SUMIFS(Movimientos!$I$2:$I$501,Movimientos!$B$2:$B$501,A12)-SUMIFS(Movimientos!$K$2:$K$501,Movimientos!$B$2:$B$501,A12),2)) | H12: =IF(OR(A12="",F12=""),"",IF(F12>0,ROUND(G12/F12,4),"")) | I12: =IF(A12="","",IF(COUNTIF(Movimientos!$B$2:$B$501,A12)=0,"",_xlfn.MAXIFS(Movimientos!$A$2:$A$501,Movimientos!$B$2:$B$501,A12))) | J12: =IF(A12="","",IF(F12<=0,"Sin stock",IF(AND(C12<>"",F12<=C12),"Pedir","Bien")))
D13: =IF(A13="","",SUMIFS(Movimientos!$G$2:$G$501,Movimientos!$B$2:$B$501,A13)) | E13: =IF(A13="","",SUMIFS(Movimientos!$H$2:$H$501,Movimientos!$B$2:$B$501,A13)) | F13: =IF(A13="","",D13-E13) | G13: =IF(A13="","",ROUND(SUMIFS(Movimientos!$I$2:$I$501,Movimientos!$B$2:$B$501,A13)-SUMIFS(Movimientos!$K$2:$K$501,Movimientos!$B$2:$B$501,A13),2)) | H13: =IF(OR(A13="",F13=""),"",IF(F13>0,ROUND(G13/F13,4),"")) | I13: =IF(A13="","",IF(COUNTIF(Movimientos!$B$2:$B$501,A13)=0,"",_xlfn.MAXIFS(Movimientos!$A$2:$A$501,Movimientos!$B$2:$B$501,A13))) | J13: =IF(A13="","",IF(F13<=0,"Sin stock",IF(AND(C13<>"",F13<=C13),"Pedir","Bien")))
D14: =IF(A14="","",SUMIFS(Movimientos!$G$2:$G$501,Movimientos!$B$2:$B$501,A14)) | E14: =IF(A14="","",SUMIFS(Movimientos!$H$2:$H$501,Movimientos!$B$2:$B$501,A14)) | F14: =IF(A14="","",D14-E14) | G14: =IF(A14="","",ROUND(SUMIFS(Movimientos!$I$2:$I$501,Movimientos!$B$2:$B$501,A14)-SUMIFS(Movimientos!$K$2:$K$501,Movimientos!$B$2:$B$501,A14),2)) | H14: =IF(OR(A14="",F14=""),"",IF(F14>0,ROUND(G14/F14,4),"")) | I14: =IF(A14="","",IF(COUNTIF(Movimientos!$B$2:$B$501,A14)=0,"",_xlfn.MAXIFS(Movimientos!$A$2:$A$501,Movimientos!$B$2:$B$501,A14))) | J14: =IF(A14="","",IF(F14<=0,"Sin stock",IF(AND(C14<>"",F14<=C14),"Pedir","Bien")))
D15: =IF(A15="","",SUMIFS(Movimientos!$G$2:$G$501,Movimientos!$B$2:$B$501,A15)) | E15: =IF(A15="","",SUMIFS(Movimientos!$H$2:$H$501,Movimientos!$B$2:$B$501,A15)) | F15: =IF(A15="","",D15-E15) | G15: =IF(A15="","",ROUND(SUMIFS(Movimientos!$I$2:$I$501,Movimientos!$B$2:$B$501,A15)-SUMIFS(Movimientos!$K$2:$K$501,Movimientos!$B$2:$B$501,A15),2)) | H15: =IF(OR(A15="",F15=""),"",IF(F15>0,ROUND(G15/F15,4),"")) | I15: =IF(A15="","",IF(COUNTIF(Movimientos!$B$2:$B$501,A15)=0,"",_xlfn.MAXIFS(Movimientos!$A$2:$A$501,Movimientos!$B$2:$B$501,A15))) | J15: =IF(A15="","",IF(F15<=0,"Sin stock",IF(AND(C15<>"",F15<=C15),"Pedir","Bien")))
D16: =IF(A16="","",SUMIFS(Movimientos!$G$2:$G$501,Movimientos!$B$2:$B$501,A16)) | E16: =IF(A16="","",SUMIFS(Movimientos!$H$2:$H$501,Movimientos!$B$2:$B$501,A16)) | F16: =IF(A16="","",D16-E16) | G16: =IF(A16="","",ROUND(SUMIFS(Movimientos!$I$2:$I$501,Movimientos!$B$2:$B$501,A16)-SUMIFS(Movimientos!$K$2:$K$501,Movimientos!$B$2:$B$501,A16),2)) | H16: =IF(OR(A16="",F16=""),"",IF(F16>0,ROUND(G16/F16,4),"")) | I16: =IF(A16="","",IF(COUNTIF(Movimientos!$B$2:$B$501,A16)=0,"",_xlfn.MAXIFS(Movimientos!$A$2:$A$501,Movimientos!$B$2:$B$501,A16))) | J16: =IF(A16="","",IF(F16<=0,"Sin stock",IF(AND(C16<>"",F16<=C16),"Pedir","Bien")))
... D201: =IF(A201="","",SUMIFS(Movimientos!$G$2:$G$501,Movimientos!$B$2:$B$501,A201)) | E201: =IF(A201="","",SUMIFS(Movimientos!$H$2:$H$501,Movimientos!$B$2:$B$501,A201)) | F201: =IF(A201="","",D201-E201) | G201: =IF(A201="","",ROUND(SUMIFS(Movimientos!$I$2:$I$501,Movimientos!$B$2:$B$501,A201)-SUMIFS(Movimientos!$K$2:$K$501,Movimientos!$B$2:$B$501,A201),2)) | H201: =IF(OR(A201="",F201=""),"",IF(F201>0,ROUND(G201/F201,4),"")) | I201: =IF(A201="","",IF(COUNTIF(Movimientos!$B$2:$B$501,A201)=0,"",_xlfn.MAXIFS(Movimientos!$A$2:$A$501,Movimientos!$B$2:$B$501,A201))) | J201: =IF(A201="","",IF(F201<=0,"Sin stock",IF(AND(C201<>"",F201<=C201),"Pedir","Bien")))
